BEGIN:VCALENDAR
VERSION:2.0
PRODID:-//Förderverein Freibad Stadtoldendorf e.V. - ECPv6.15.13//NONSGML v1.0//EN
CALSCALE:GREGORIAN
METHOD:PUBLISH
X-ORIGINAL-URL:https://freibad-stadtoldendorf.de/wordpress
X-WR-CALDESC:Veranstaltungen für Förderverein Freibad Stadtoldendorf e.V.
REFRESH-INTERVAL;VALUE=DURATION:PT1H
X-Robots-Tag:noindex
X-PUBLISHED-TTL:PT1H
BEGIN:VTIMEZONE
TZID:Europe/Paris
BEGIN:DAYLIGHT
TZOFFSETFROM:+0100
TZOFFSETTO:+0200
TZNAME:CEST
DTSTART:20210328T010000
END:DAYLIGHT
BEGIN:STANDARD
TZOFFSETFROM:+0200
TZOFFSETTO:+0100
TZNAME:CET
DTSTART:20211031T010000
END:STANDARD
BEGIN:DAYLIGHT
TZOFFSETFROM:+0100
TZOFFSETTO:+0200
TZNAME:CEST
DTSTART:20220327T010000
END:DAYLIGHT
BEGIN:STANDARD
TZOFFSETFROM:+0200
TZOFFSETTO:+0100
TZNAME:CET
DTSTART:20221030T010000
END:STANDARD
BEGIN:DAYLIGHT
TZOFFSETFROM:+0100
TZOFFSETTO:+0200
TZNAME:CEST
DTSTART:20230326T010000
END:DAYLIGHT
BEGIN:STANDARD
TZOFFSETFROM:+0200
TZOFFSETTO:+0100
TZNAME:CET
DTSTART:20231029T010000
END:STANDARD
END:VTIMEZONE
BEGIN:VEVENT
DTSTART;TZID=Europe/Paris:20220614T091500
DTEND;TZID=Europe/Paris:20220614T100000
DTSTAMP:20260423T182351
CREATED:20220528T095211Z
LAST-MODIFIED:20220528T095252Z
UID:6103-1655198100-1655200800@freibad-stadtoldendorf.de
SUMMARY:Kostenlose Wassergymnastik
DESCRIPTION:Der Förderverein Freibad Stadtoldendorf bietet allen Besuchern des Freibades einmal wöchentlich die KOSTENLOSE Teilnahme an einer 45 minütigen Wassergymnastik an. Start: 14.06. – weitere Termine: jeweils Dienstags bis zum Saisonende!
URL:https://freibad-stadtoldendorf.de/wordpress/event/kostenlose-wassergymnastik/
LOCATION:Freibad
END:VEVENT
END:VCALENDAR