BEGIN:VCALENDAR
VERSION:2.0
PRODID:-//Förderverein Freibad Stadtoldendorf e.V. - ECPv6.15.13//NONSGML v1.0//EN
CALSCALE:GREGORIAN
METHOD:PUBLISH
X-WR-CALNAME:Förderverein Freibad Stadtoldendorf e.V.
X-ORIGINAL-URL:https://freibad-stadtoldendorf.de/wordpress
X-WR-CALDESC:Veranstaltungen für Förderverein Freibad Stadtoldendorf e.V.
REFRESH-INTERVAL;VALUE=DURATION:PT1H
X-Robots-Tag:noindex
X-PUBLISHED-TTL:PT1H
BEGIN:VTIMEZONE
TZID:Europe/Paris
BEGIN:DAYLIGHT
TZOFFSETFROM:+0100
TZOFFSETTO:+0200
TZNAME:CEST
DTSTART:20210328T010000
END:DAYLIGHT
BEGIN:STANDARD
TZOFFSETFROM:+0200
TZOFFSETTO:+0100
TZNAME:CET
DTSTART:20211031T010000
END:STANDARD
BEGIN:DAYLIGHT
TZOFFSETFROM:+0100
TZOFFSETTO:+0200
TZNAME:CEST
DTSTART:20220327T010000
END:DAYLIGHT
BEGIN:STANDARD
TZOFFSETFROM:+0200
TZOFFSETTO:+0100
TZNAME:CET
DTSTART:20221030T010000
END:STANDARD
BEGIN:DAYLIGHT
TZOFFSETFROM:+0100
TZOFFSETTO:+0200
TZNAME:CEST
DTSTART:20230326T010000
END:DAYLIGHT
BEGIN:STANDARD
TZOFFSETFROM:+0200
TZOFFSETTO:+0100
TZNAME:CET
DTSTART:20231029T010000
END:STANDARD
END:VTIMEZONE
BEGIN:VEVENT
DTSTART;VALUE=DATE:20221125
DTEND;VALUE=DATE:20221128
DTSTAMP:20260423T104053
CREATED:20221110T175750Z
LAST-MODIFIED:20221110T181037Z
UID:6381-1669334400-1669593599@freibad-stadtoldendorf.de
SUMMARY:7. Stadtoldendorfer Weihnachtswelt
DESCRIPTION:Nachdem die Pandemie in den vergangenen Jahren Veranstaltungen wie die „Stadtoldendorfer Weihnachtswelt“ verhindert hat\, freuen wir uns\, dass die Stadt Stadtoldendorf die schöne Tradition nun wieder aufleben läßt! Und natürlich ist der Förderverein wieder mit einem Stand vertreten! \nWie früher wollen wir wieder selbst Gebackenes und vielleicht auch Gelees und Marmeladen aus „Mutters Küche“ am Stand haben und gegen eine Spende für die Vereinskasse abgeben! \nAm Freitag\, den 25.11. geht’s um 16:00 Uhr los (Ende: 21.00 Uhr) \nSamstag: ebenfalls 16:00 bis 21:00 Uhr \nSonntag: 15:00 bis 18:00 Uhr
URL:https://freibad-stadtoldendorf.de/wordpress/event/7-weihnachtswelt/
END:VEVENT
END:VCALENDAR