BEGIN:VCALENDAR
VERSION:2.0
PRODID:-//Förderverein Freibad Stadtoldendorf e.V. - ECPv6.15.13//NONSGML v1.0//EN
CALSCALE:GREGORIAN
METHOD:PUBLISH
X-ORIGINAL-URL:https://freibad-stadtoldendorf.de/wordpress
X-WR-CALDESC:Veranstaltungen für Förderverein Freibad Stadtoldendorf e.V.
REFRESH-INTERVAL;VALUE=DURATION:PT1H
X-Robots-Tag:noindex
X-PUBLISHED-TTL:PT1H
BEGIN:VTIMEZONE
TZID:Europe/Paris
BEGIN:DAYLIGHT
TZOFFSETFROM:+0100
TZOFFSETTO:+0200
TZNAME:CEST
DTSTART:20220327T010000
END:DAYLIGHT
BEGIN:STANDARD
TZOFFSETFROM:+0200
TZOFFSETTO:+0100
TZNAME:CET
DTSTART:20221030T010000
END:STANDARD
BEGIN:DAYLIGHT
TZOFFSETFROM:+0100
TZOFFSETTO:+0200
TZNAME:CEST
DTSTART:20230326T010000
END:DAYLIGHT
BEGIN:STANDARD
TZOFFSETFROM:+0200
TZOFFSETTO:+0100
TZNAME:CET
DTSTART:20231029T010000
END:STANDARD
BEGIN:DAYLIGHT
TZOFFSETFROM:+0100
TZOFFSETTO:+0200
TZNAME:CEST
DTSTART:20240331T010000
END:DAYLIGHT
BEGIN:STANDARD
TZOFFSETFROM:+0200
TZOFFSETTO:+0100
TZNAME:CET
DTSTART:20241027T010000
END:STANDARD
END:VTIMEZONE
BEGIN:VEVENT
DTSTART;TZID=Europe/Paris:20231027T183000
DTEND;TZID=Europe/Paris:20231027T203000
DTSTAMP:20260422T161213
CREATED:20230921T155246Z
LAST-MODIFIED:20231009T065230Z
UID:6896-1698431400-1698438600@freibad-stadtoldendorf.de
SUMMARY:Heringsessen
DESCRIPTION:Das bereits traditionelle „Heringsessen“ zum Saisonausklang findet in wieder im Haus am Eberbach statt. \nFür die Planung bitten wir um eine verbindliche Anmeldung bis Freitag\, den 20.10.2023.
URL:https://freibad-stadtoldendorf.de/wordpress/event/heringsessen-4/
LOCATION:Haus am Eberbach\, Linnenkämperstraße 26\, Stadtoldendorf\, 37627\, Deutschland
END:VEVENT
END:VCALENDAR