BEGIN:VCALENDAR
VERSION:2.0
PRODID:-//Förderverein Freibad Stadtoldendorf e.V. - ECPv6.15.13//NONSGML v1.0//EN
CALSCALE:GREGORIAN
METHOD:PUBLISH
X-WR-CALNAME:Förderverein Freibad Stadtoldendorf e.V.
X-ORIGINAL-URL:https://freibad-stadtoldendorf.de/wordpress
X-WR-CALDESC:Veranstaltungen für Förderverein Freibad Stadtoldendorf e.V.
REFRESH-INTERVAL;VALUE=DURATION:PT1H
X-Robots-Tag:noindex
X-PUBLISHED-TTL:PT1H
BEGIN:VTIMEZONE
TZID:Europe/Paris
BEGIN:DAYLIGHT
TZOFFSETFROM:+0100
TZOFFSETTO:+0200
TZNAME:CEST
DTSTART:20230326T010000
END:DAYLIGHT
BEGIN:STANDARD
TZOFFSETFROM:+0200
TZOFFSETTO:+0100
TZNAME:CET
DTSTART:20231029T010000
END:STANDARD
BEGIN:DAYLIGHT
TZOFFSETFROM:+0100
TZOFFSETTO:+0200
TZNAME:CEST
DTSTART:20240331T010000
END:DAYLIGHT
BEGIN:STANDARD
TZOFFSETFROM:+0200
TZOFFSETTO:+0100
TZNAME:CET
DTSTART:20241027T010000
END:STANDARD
BEGIN:DAYLIGHT
TZOFFSETFROM:+0100
TZOFFSETTO:+0200
TZNAME:CEST
DTSTART:20250330T010000
END:DAYLIGHT
BEGIN:STANDARD
TZOFFSETFROM:+0200
TZOFFSETTO:+0100
TZNAME:CET
DTSTART:20251026T010000
END:STANDARD
END:VTIMEZONE
BEGIN:VEVENT
DTSTART;TZID=Europe/Paris:20240204T110000
DTEND;TZID=Europe/Paris:20240204T133000
DTSTAMP:20260422T100821
CREATED:20231122T072545Z
LAST-MODIFIED:20231123T081158Z
UID:7006-1707044400-1707053400@freibad-stadtoldendorf.de
SUMMARY:Grünkohlwanderung
DESCRIPTION:Auch in diesem Winter wollen wir uns zu einer Grünkohlwanderung treffen! Wir starten am Haus am Eberbach\, wohin wir auch zurückkehren. Deshalb sind alle\, die nicht mittandern wollen\, zum Essen (ab ca. 12:30) herzlich willkommen.
URL:https://freibad-stadtoldendorf.de/wordpress/event/gruenkohlwanderung-2/
LOCATION:Haus am Eberbach\, Linnenkämperstraße 26\, Stadtoldendorf\, 37627\, Deutschland
END:VEVENT
END:VCALENDAR