BEGIN:VCALENDAR
VERSION:2.0
PRODID:-//Förderverein Freibad Stadtoldendorf e.V. - ECPv6.15.13//NONSGML v1.0//EN
CALSCALE:GREGORIAN
METHOD:PUBLISH
X-ORIGINAL-URL:https://freibad-stadtoldendorf.de/wordpress
X-WR-CALDESC:Veranstaltungen für Förderverein Freibad Stadtoldendorf e.V.
REFRESH-INTERVAL;VALUE=DURATION:PT1H
X-Robots-Tag:noindex
X-PUBLISHED-TTL:PT1H
BEGIN:VTIMEZONE
TZID:Europe/Paris
BEGIN:DAYLIGHT
TZOFFSETFROM:+0100
TZOFFSETTO:+0200
TZNAME:CEST
DTSTART:20230326T010000
END:DAYLIGHT
BEGIN:STANDARD
TZOFFSETFROM:+0200
TZOFFSETTO:+0100
TZNAME:CET
DTSTART:20231029T010000
END:STANDARD
BEGIN:DAYLIGHT
TZOFFSETFROM:+0100
TZOFFSETTO:+0200
TZNAME:CEST
DTSTART:20240331T010000
END:DAYLIGHT
BEGIN:STANDARD
TZOFFSETFROM:+0200
TZOFFSETTO:+0100
TZNAME:CET
DTSTART:20241027T010000
END:STANDARD
BEGIN:DAYLIGHT
TZOFFSETFROM:+0100
TZOFFSETTO:+0200
TZNAME:CEST
DTSTART:20250330T010000
END:DAYLIGHT
BEGIN:STANDARD
TZOFFSETFROM:+0200
TZOFFSETTO:+0100
TZNAME:CET
DTSTART:20251026T010000
END:STANDARD
END:VTIMEZONE
BEGIN:VEVENT
DTSTART;TZID=Europe/Paris:20240921T143000
DTEND;TZID=Europe/Paris:20240921T170000
DTSTAMP:20260421T234232
CREATED:20240916T141438Z
LAST-MODIFIED:20240916T142415Z
UID:7522-1726929000-1726938000@freibad-stadtoldendorf.de
SUMMARY:Apfelernte
DESCRIPTION:Wir laden alle Mitglieder zur Apfelernete ins Freibad ein! Die geernteten Äpfel werden vom Einbecker Mostwerk verarbeitet und der gewonnene Apfelsaft vom Förderverein am Weihnachtsmarkt zum Kauf angeboten. Es ist selbstverständlich\, dass der gesamte Erlös dem Freibad zugute kommt. Es können auch Äpfel mitgebracht werden (als Spende für den Vereion). \nAlle\, die Lust und Zeit haben\, sich an der Pflückaktion zu beteiligen\, werden gebeten\, möglichst ein Pflückwerkszeug mitzubringen! Zur „Belohnung“ gibt es anschließend Kaffee und Kuchen (natülrich Apfelkuchen!!).
URL:https://freibad-stadtoldendorf.de/wordpress/event/apfelernte/
LOCATION:Freibad
END:VEVENT
END:VCALENDAR