BEGIN:VCALENDAR
VERSION:2.0
PRODID:-//Förderverein Freibad Stadtoldendorf e.V. - ECPv6.15.13//NONSGML v1.0//EN
CALSCALE:GREGORIAN
METHOD:PUBLISH
X-ORIGINAL-URL:https://freibad-stadtoldendorf.de/wordpress
X-WR-CALDESC:Veranstaltungen für Förderverein Freibad Stadtoldendorf e.V.
REFRESH-INTERVAL;VALUE=DURATION:PT1H
X-Robots-Tag:noindex
X-PUBLISHED-TTL:PT1H
BEGIN:VTIMEZONE
TZID:Europe/Paris
BEGIN:DAYLIGHT
TZOFFSETFROM:+0100
TZOFFSETTO:+0200
TZNAME:CEST
DTSTART:20230326T010000
END:DAYLIGHT
BEGIN:STANDARD
TZOFFSETFROM:+0200
TZOFFSETTO:+0100
TZNAME:CET
DTSTART:20231029T010000
END:STANDARD
BEGIN:DAYLIGHT
TZOFFSETFROM:+0100
TZOFFSETTO:+0200
TZNAME:CEST
DTSTART:20240331T010000
END:DAYLIGHT
BEGIN:STANDARD
TZOFFSETFROM:+0200
TZOFFSETTO:+0100
TZNAME:CET
DTSTART:20241027T010000
END:STANDARD
BEGIN:DAYLIGHT
TZOFFSETFROM:+0100
TZOFFSETTO:+0200
TZNAME:CEST
DTSTART:20250330T010000
END:DAYLIGHT
BEGIN:STANDARD
TZOFFSETFROM:+0200
TZOFFSETTO:+0100
TZNAME:CET
DTSTART:20251026T010000
END:STANDARD
END:VTIMEZONE
BEGIN:VEVENT
DTSTART;TZID=Europe/Paris:20241025T183000
DTEND;TZID=Europe/Paris:20241025T183000
DTSTAMP:20260421T215942
CREATED:20240929T092927Z
LAST-MODIFIED:20240929T092927Z
UID:7554-1729881000-1729881000@freibad-stadtoldendorf.de
SUMMARY:Heringsessen
DESCRIPTION:Wie jedes Jahr wollen wir uns auch heuer zu einem gemütlichen Zusammensein mit einem Heringsessen im Haus am Eberbach treffen. Alle Mitglieder und Freunde des Fördervereins sind herzliche eingeladen! \nZur Planung bitten wir um eine verbindliche Anmeldung bis Sonntag\, den 20.10.2024. Diese wie immer an: vorstand@freibad-stadtoldendorf.de bzw. telefonisch an Heike Wehenkel\, Tel. 05532 3175 oder Renate Nott\, Tel. 05532 501978. \nDer Kostenbeitrag für das Essen ist wie folgt: \n–              3/2 Heringe Hausfrauenart + Kartoffeln               12\,50 EUR \n–              Jägerroulade + Kartoffeln                           11\,00 EUR \nBitte geben Sie bei der Anmeldung unbedingt an\, was Sie gern essen möchten! (Für nicht Fisch-Esser ist hoffentlich die Jägerroulade genehm. Für „extreme Fälle“ wird aber sicher auch etwas anderes angeboten.)
URL:https://freibad-stadtoldendorf.de/wordpress/event/heringsessen-5/
LOCATION:Haus am Eberbach\, Linnenkämperstraße 26\, Stadtoldendorf\, 37627\, Deutschland
END:VEVENT
END:VCALENDAR