BEGIN:VCALENDAR
VERSION:2.0
PRODID:-//Förderverein Freibad Stadtoldendorf e.V. - ECPv6.15.13//NONSGML v1.0//EN
CALSCALE:GREGORIAN
METHOD:PUBLISH
X-ORIGINAL-URL:https://freibad-stadtoldendorf.de/wordpress
X-WR-CALDESC:Veranstaltungen für Förderverein Freibad Stadtoldendorf e.V.
REFRESH-INTERVAL;VALUE=DURATION:PT1H
X-Robots-Tag:noindex
X-PUBLISHED-TTL:PT1H
BEGIN:VTIMEZONE
TZID:Europe/Paris
BEGIN:DAYLIGHT
TZOFFSETFROM:+0100
TZOFFSETTO:+0200
TZNAME:CEST
DTSTART:20200329T010000
END:DAYLIGHT
BEGIN:STANDARD
TZOFFSETFROM:+0200
TZOFFSETTO:+0100
TZNAME:CET
DTSTART:20201025T010000
END:STANDARD
BEGIN:DAYLIGHT
TZOFFSETFROM:+0100
TZOFFSETTO:+0200
TZNAME:CEST
DTSTART:20210328T010000
END:DAYLIGHT
BEGIN:STANDARD
TZOFFSETFROM:+0200
TZOFFSETTO:+0100
TZNAME:CET
DTSTART:20211031T010000
END:STANDARD
BEGIN:DAYLIGHT
TZOFFSETFROM:+0100
TZOFFSETTO:+0200
TZNAME:CEST
DTSTART:20220327T010000
END:DAYLIGHT
BEGIN:STANDARD
TZOFFSETFROM:+0200
TZOFFSETTO:+0100
TZNAME:CET
DTSTART:20221030T010000
END:STANDARD
END:VTIMEZONE
BEGIN:VEVENT
DTSTART;TZID=Europe/Paris:20210828T090000
DTEND;TZID=Europe/Paris:20210828T110000
DTSTAMP:20260425T215815
CREATED:20210816T152252Z
LAST-MODIFIED:20210816T152357Z
UID:5753-1630141200-1630148400@freibad-stadtoldendorf.de
SUMMARY:Frühstück
DESCRIPTION:Zum bevorstehenden Saisonende*) wollen wir wieder einmal ein (Freibad) Frühstück zu organisieren. Die aktuellen Hygienanforderungen lassen es leider nicht zu\, dieses Frühstück im Freibad stattfinden zu lassen. Wir konnten aber Roloffs im Haus am Eberbach gewinnen\, für uns dieses Frühstück auf der Terrasse ihres Restaurants anzubieten. Anmeldung bitte bis \nMittwoch\, den 25.08.2021  \ndirekt im Haus am Eberbach oder per Email an vorstand@freibad-stadtoldendorf.de. Alternativ telefonisch bei 05532 501978 (Renate Nott) oder 05532 3175\n(Heike Wehenkel). \nKosten: 10 €/Person. Gutscheine des Vereins können eingelöst werden! \n*) Nach Information der Samtgemeinde bleibt unser Bad bis mindestens bis zum 12. September geöffnet.
URL:https://freibad-stadtoldendorf.de/wordpress/event/fruehstueck-2/
LOCATION:Haus am Eberbach\, Linnenkämperstraße 26\, Stadtoldendorf\, 37627\, Deutschland
END:VEVENT
END:VCALENDAR