BEGIN:VCALENDAR
VERSION:2.0
PRODID:-//Förderverein Freibad Stadtoldendorf e.V. - ECPv6.15.13//NONSGML v1.0//EN
CALSCALE:GREGORIAN
METHOD:PUBLISH
X-WR-CALNAME:Förderverein Freibad Stadtoldendorf e.V.
X-ORIGINAL-URL:https://freibad-stadtoldendorf.de/wordpress
X-WR-CALDESC:Veranstaltungen für Förderverein Freibad Stadtoldendorf e.V.
REFRESH-INTERVAL;VALUE=DURATION:PT1H
X-Robots-Tag:noindex
X-PUBLISHED-TTL:PT1H
BEGIN:VTIMEZONE
TZID:Europe/Paris
BEGIN:DAYLIGHT
TZOFFSETFROM:+0100
TZOFFSETTO:+0200
TZNAME:CEST
DTSTART:20210328T010000
END:DAYLIGHT
BEGIN:STANDARD
TZOFFSETFROM:+0200
TZOFFSETTO:+0100
TZNAME:CET
DTSTART:20211031T010000
END:STANDARD
BEGIN:DAYLIGHT
TZOFFSETFROM:+0100
TZOFFSETTO:+0200
TZNAME:CEST
DTSTART:20220327T010000
END:DAYLIGHT
BEGIN:STANDARD
TZOFFSETFROM:+0200
TZOFFSETTO:+0100
TZNAME:CET
DTSTART:20221030T010000
END:STANDARD
BEGIN:DAYLIGHT
TZOFFSETFROM:+0100
TZOFFSETTO:+0200
TZNAME:CEST
DTSTART:20230326T010000
END:DAYLIGHT
BEGIN:STANDARD
TZOFFSETFROM:+0200
TZOFFSETTO:+0100
TZNAME:CET
DTSTART:20231029T010000
END:STANDARD
END:VTIMEZONE
BEGIN:VEVENT
DTSTART;TZID=Europe/Paris:20220511T190000
DTEND;TZID=Europe/Paris:20220511T190000
DTSTAMP:20260423T182223
CREATED:20220402T191223Z
LAST-MODIFIED:20220402T192034Z
UID:5867-1652295600-1652295600@freibad-stadtoldendorf.de
SUMMARY:Jahrestreffen
DESCRIPTION:Endlich ist es uns wieder möglich\, die Jahreshauptversammlung als Präsenzveranstaltung abzuhalten! Wie schon in der Vergangenheit\, findet dieses Mitgliedertreffen im Haus am Eberbach statt. Natlürlich wird\, wie bei jeder Jahreshauptversammlung\, mit dem Kassenbericht über die finanzielle Lage des Vereins informiert und über die Aktivitäten in 2021 berichtet.  Hinzu kommen die Planungen für  die bevorstehende Saison. Außerdem stehen Vorstandswahlen an. Der Vorstand freut sich auf eine rege Beteiligung\,
URL:https://freibad-stadtoldendorf.de/wordpress/event/jahreshaupt/
LOCATION:Haus am Eberbach\, Linnenkämperstraße 26\, Stadtoldendorf\, 37627\, Deutschland
END:VEVENT
BEGIN:VEVENT
DTSTART;TZID=Europe/Paris:20220515T093000
DTEND;TZID=Europe/Paris:20220515T110000
DTSTAMP:20260423T182223
CREATED:20220507T155259Z
LAST-MODIFIED:20220507T160104Z
UID:5945-1652607000-1652612400@freibad-stadtoldendorf.de
SUMMARY:Frühstück
DESCRIPTION:Am Sonntag\, den 15.05.\, wollen wir mit einem (Freibad) Frühstück in die Saison starten! Um wetterunabhängig zu sein\, haben wir als Veranstaltungsort das „Haus am Eberbach“ gewählt. Für die Organisation ist eine Anmeldung bitte bis \nDienstag\, den 10.05.2022 \ndirekt im Haus am Eberbach oder per Email an vorstand@freibad-stadtoldendorf.de. Alternativ telefonisch bei 05532 501978 (Renate Nott) oder 05532 3175\n(Heike Wehenkel). \nKosten: 10 €/Person. Gutscheine des Vereins können eingelöst werden!
URL:https://freibad-stadtoldendorf.de/wordpress/event/fruehstueck-3/
LOCATION:Haus am Eberbach\, Linnenkämperstraße 26\, Stadtoldendorf\, 37627\, Deutschland
END:VEVENT
BEGIN:VEVENT
DTSTART;TZID=Europe/Paris:20220526T140000
DTEND;TZID=Europe/Paris:20220526T170000
DTSTAMP:20260423T182223
CREATED:20220517T090756Z
LAST-MODIFIED:20220517T090756Z
UID:6048-1653573600-1653584400@freibad-stadtoldendorf.de
SUMMARY:Kaffeenachmittag
DESCRIPTION:Am Himmelfahrtstag läd der Förderverein zu einem Kaffeenachmittag ins Freibad ein! Vorgesehen ist\, am Abend dann noch Thüringer Roster zu grillen und damit die Veranstaltung ausklingen zu lassen. Alle Mitglieder\, Freunde und Förderer des Vereins sind herzlich eingeladen!
URL:https://freibad-stadtoldendorf.de/wordpress/event/kaffeenachmittag/
LOCATION:Freibad
END:VEVENT
END:VCALENDAR