BEGIN:VCALENDAR
VERSION:2.0
PRODID:-//Förderverein Freibad Stadtoldendorf e.V. - ECPv6.15.13//NONSGML v1.0//EN
CALSCALE:GREGORIAN
METHOD:PUBLISH
X-WR-CALNAME:Förderverein Freibad Stadtoldendorf e.V.
X-ORIGINAL-URL:https://freibad-stadtoldendorf.de/wordpress
X-WR-CALDESC:Veranstaltungen für Förderverein Freibad Stadtoldendorf e.V.
REFRESH-INTERVAL;VALUE=DURATION:PT1H
X-Robots-Tag:noindex
X-PUBLISHED-TTL:PT1H
BEGIN:VTIMEZONE
TZID:Europe/Paris
BEGIN:DAYLIGHT
TZOFFSETFROM:+0100
TZOFFSETTO:+0200
TZNAME:CEST
DTSTART:20210328T010000
END:DAYLIGHT
BEGIN:STANDARD
TZOFFSETFROM:+0200
TZOFFSETTO:+0100
TZNAME:CET
DTSTART:20211031T010000
END:STANDARD
BEGIN:DAYLIGHT
TZOFFSETFROM:+0100
TZOFFSETTO:+0200
TZNAME:CEST
DTSTART:20220327T010000
END:DAYLIGHT
BEGIN:STANDARD
TZOFFSETFROM:+0200
TZOFFSETTO:+0100
TZNAME:CET
DTSTART:20221030T010000
END:STANDARD
BEGIN:DAYLIGHT
TZOFFSETFROM:+0100
TZOFFSETTO:+0200
TZNAME:CEST
DTSTART:20230326T010000
END:DAYLIGHT
BEGIN:STANDARD
TZOFFSETFROM:+0200
TZOFFSETTO:+0100
TZNAME:CET
DTSTART:20231029T010000
END:STANDARD
END:VTIMEZONE
BEGIN:VEVENT
DTSTART;TZID=Europe/Paris:20220720T180000
DTEND;TZID=Europe/Paris:20220817T184500
DTSTAMP:20260423T134253
CREATED:20220528T100210Z
LAST-MODIFIED:20220528T100214Z
UID:6111-1658340000-1660761900@freibad-stadtoldendorf.de
SUMMARY:Wassergymnastik 2. Kurs
DESCRIPTION:Der Förderverein Freibad Stadtoldendorf bietet in diesem Jahr erstmals Wassergymnastik im Nichtschwimmerbecken an (Anmeldung erforderlich). Der Kurs ist Kostenpflichtig und findet jeweils am Mittwoch statt (5 Trainingseinheiten). Weitere Infos hier..
URL:https://freibad-stadtoldendorf.de/wordpress/event/wassergymnastik-2-kurs/
LOCATION:Freibad
END:VEVENT
BEGIN:VEVENT
DTSTART;TZID=Europe/Paris:20220821T090000
DTEND;TZID=Europe/Paris:20220821T110000
DTSTAMP:20260423T134253
CREATED:20220808T152453Z
LAST-MODIFIED:20220808T154527Z
UID:6231-1661072400-1661079600@freibad-stadtoldendorf.de
SUMMARY:Saisonende
DESCRIPTION:Wie schon vor einiger Zeit informiert\, wollen wir an diesem Tag als Verein wieder aktiv werden. Wir haben diskutiert und auch mit Einzelnen von Ihnen gesprochen und uns nun überlegt\, endlich wieder einmal ein (einfaches) Freibad – Frühstück zu organisieren. Die Bedingungen sind nicht ideal\, aber wir hoffen einfach\, der Spaß an der Sache ist es Ihnen wert und Sie sind auch zu ein paar Zugeständnissen bereit. Immerhin konnten wir Roloffs im Haus am Eberbach gewinnen\, uns bei der Organisation dieses Frühstücks zu unterstützen. \nBitte unbedingt Geschirr (Teller\, Besteck\, Kaffeepott) selbst mitbringen!!! \nAnmeldung bitte bis Mittwoch\, den 17.08.2022 an vorstand@freibad-stadtoldendorf.de. Alternativ: Tel 05532 501978 (Renate Nott) oder 05532 3175 (Heike Wehenkel) bzw. über diese Webseite!
URL:https://freibad-stadtoldendorf.de/wordpress/event/saisonschlusstreffen/
LOCATION:Freibad
END:VEVENT
END:VCALENDAR