BEGIN:VCALENDAR
VERSION:2.0
PRODID:-//Förderverein Freibad Stadtoldendorf e.V. - ECPv6.15.13//NONSGML v1.0//EN
CALSCALE:GREGORIAN
METHOD:PUBLISH
X-ORIGINAL-URL:https://freibad-stadtoldendorf.de/wordpress
X-WR-CALDESC:Veranstaltungen für Förderverein Freibad Stadtoldendorf e.V.
REFRESH-INTERVAL;VALUE=DURATION:PT1H
X-Robots-Tag:noindex
X-PUBLISHED-TTL:PT1H
BEGIN:VTIMEZONE
TZID:Europe/Paris
BEGIN:DAYLIGHT
TZOFFSETFROM:+0100
TZOFFSETTO:+0200
TZNAME:CEST
DTSTART:20230326T010000
END:DAYLIGHT
BEGIN:STANDARD
TZOFFSETFROM:+0200
TZOFFSETTO:+0100
TZNAME:CET
DTSTART:20231029T010000
END:STANDARD
BEGIN:DAYLIGHT
TZOFFSETFROM:+0100
TZOFFSETTO:+0200
TZNAME:CEST
DTSTART:20240331T010000
END:DAYLIGHT
BEGIN:STANDARD
TZOFFSETFROM:+0200
TZOFFSETTO:+0100
TZNAME:CET
DTSTART:20241027T010000
END:STANDARD
BEGIN:DAYLIGHT
TZOFFSETFROM:+0100
TZOFFSETTO:+0200
TZNAME:CEST
DTSTART:20250330T010000
END:DAYLIGHT
BEGIN:STANDARD
TZOFFSETFROM:+0200
TZOFFSETTO:+0100
TZNAME:CET
DTSTART:20251026T010000
END:STANDARD
END:VTIMEZONE
BEGIN:VEVENT
DTSTART;TZID=Europe/Paris:20240504T093000
DTEND;TZID=Europe/Paris:20240504T123000
DTSTAMP:20260422T041951
CREATED:20240412T120532Z
LAST-MODIFIED:20240412T121118Z
UID:7139-1714815000-1714825800@freibad-stadtoldendorf.de
SUMMARY:Frühjahrsputz im Mai
DESCRIPTION:Unsere Aktion am 27. April wird sicher wieder sehr effektiv. Dennoch bleiben immer noch ein paar Dinge unerledigt\, die wir angehen wollen\, Diesmal wollen wir nicht nur arbeiten\, sondern auch den Grill anwerfen! Wir bitten deshalb um rechtzeitige Anmeldung. Telefonisch bei Renate Nott (501978) oder Heike Wehenkel (3175) bzw. per Email über diese Webseite.
URL:https://freibad-stadtoldendorf.de/wordpress/event/fruehjahrsputz-im-mai/
LOCATION:Freibad
END:VEVENT
BEGIN:VEVENT
DTSTART;TZID=Europe/Paris:20240518T091500
DTEND;TZID=Europe/Paris:20240518T110000
DTSTAMP:20260422T041951
CREATED:20240507T085621Z
LAST-MODIFIED:20240507T090046Z
UID:7190-1716023700-1716030000@freibad-stadtoldendorf.de
SUMMARY:Frühstück zum Saisonstart
DESCRIPTION:Wir wollen die neue Freibadsaison mit einem zünftigen Frühstück einläuten! \nKosten: 13\,00 € /Person – vor Ort zu zahlen! \nAnmeldung möglichst bits Dienstag\, den 14.05.2024 per Email an vorstand@freibad-stadtoldendorf.de oder telefonisch: \n05532 501978 (Renate Nott) oder \n05532 3175 (Heike Wehenkel)
URL:https://freibad-stadtoldendorf.de/wordpress/event/fruehstueck-zum-saisonstart/
LOCATION:Freibad
END:VEVENT
END:VCALENDAR