BEGIN:VCALENDAR
VERSION:2.0
PRODID:-//Förderverein Freibad Stadtoldendorf e.V. - ECPv6.15.13//NONSGML v1.0//EN
CALSCALE:GREGORIAN
METHOD:PUBLISH
X-WR-CALNAME:Förderverein Freibad Stadtoldendorf e.V.
X-ORIGINAL-URL:https://freibad-stadtoldendorf.de/wordpress
X-WR-CALDESC:Veranstaltungen für Förderverein Freibad Stadtoldendorf e.V.
REFRESH-INTERVAL;VALUE=DURATION:PT1H
X-Robots-Tag:noindex
X-PUBLISHED-TTL:PT1H
BEGIN:VTIMEZONE
TZID:Europe/Paris
BEGIN:DAYLIGHT
TZOFFSETFROM:+0100
TZOFFSETTO:+0200
TZNAME:CEST
DTSTART:20230326T010000
END:DAYLIGHT
BEGIN:STANDARD
TZOFFSETFROM:+0200
TZOFFSETTO:+0100
TZNAME:CET
DTSTART:20231029T010000
END:STANDARD
BEGIN:DAYLIGHT
TZOFFSETFROM:+0100
TZOFFSETTO:+0200
TZNAME:CEST
DTSTART:20240331T010000
END:DAYLIGHT
BEGIN:STANDARD
TZOFFSETFROM:+0200
TZOFFSETTO:+0100
TZNAME:CET
DTSTART:20241027T010000
END:STANDARD
BEGIN:DAYLIGHT
TZOFFSETFROM:+0100
TZOFFSETTO:+0200
TZNAME:CEST
DTSTART:20250330T010000
END:DAYLIGHT
BEGIN:STANDARD
TZOFFSETFROM:+0200
TZOFFSETTO:+0100
TZNAME:CET
DTSTART:20251026T010000
END:STANDARD
END:VTIMEZONE
BEGIN:VEVENT
DTSTART;VALUE=DATE:20241129
DTEND;VALUE=DATE:20241202
DTSTAMP:20260421T165057
CREATED:20241017T130922Z
LAST-MODIFIED:20241017T130943Z
UID:7581-1732838400-1733097599@freibad-stadtoldendorf.de
SUMMARY:Weihnachtsmarkt 2024
DESCRIPTION:Am ersten Adventwochenende läd die Stadt Stadtoldendorf wieder zum Weihnachtsmarkt auf dem Marktplatz ein. Natürlich ist der Förderverein\, wie jedes Jahr\, mit einem Stand vertreten. Wir bitten\, diesen Termin schon einmal vorzumerken. Nähere Hinweise erhalten die Mitgleider des Vereins in kürze via Email.
URL:https://freibad-stadtoldendorf.de/wordpress/event/weihnachtsmarkt-2024/
LOCATION:Weihnachtsmarkt\, Markt\, Stadtoldendorf
END:VEVENT
END:VCALENDAR